BEGIN:VCALENDAR
VERSION:2.0
PRODID:-//Feinheimisch - ECPv6.15.16//NONSGML v1.0//EN
CALSCALE:GREGORIAN
METHOD:PUBLISH
X-WR-CALNAME:Feinheimisch
X-ORIGINAL-URL:https://feinheimisch.de
X-WR-CALDESC:Veranstaltungen für Feinheimisch
REFRESH-INTERVAL;VALUE=DURATION:PT1H
X-Robots-Tag:noindex
X-PUBLISHED-TTL:PT1H
BEGIN:VTIMEZONE
TZID:Europe/Berlin
BEGIN:DAYLIGHT
TZOFFSETFROM:+0100
TZOFFSETTO:+0200
TZNAME:CEST
DTSTART:20250330T010000
END:DAYLIGHT
BEGIN:STANDARD
TZOFFSETFROM:+0200
TZOFFSETTO:+0100
TZNAME:CET
DTSTART:20251026T010000
END:STANDARD
BEGIN:DAYLIGHT
TZOFFSETFROM:+0100
TZOFFSETTO:+0200
TZNAME:CEST
DTSTART:20260329T010000
END:DAYLIGHT
BEGIN:STANDARD
TZOFFSETFROM:+0200
TZOFFSETTO:+0100
TZNAME:CET
DTSTART:20261025T010000
END:STANDARD
BEGIN:DAYLIGHT
TZOFFSETFROM:+0100
TZOFFSETTO:+0200
TZNAME:CEST
DTSTART:20270328T010000
END:DAYLIGHT
BEGIN:STANDARD
TZOFFSETFROM:+0200
TZOFFSETTO:+0100
TZNAME:CET
DTSTART:20271031T010000
END:STANDARD
END:VTIMEZONE
BEGIN:VEVENT
DTSTART;TZID=Europe/Berlin:20260521T180000
DTEND;TZID=Europe/Berlin:20260521T210000
DTSTAMP:20260420T150104
CREATED:20260218T100022Z
LAST-MODIFIED:20260218T100022Z
UID:28092-1779386400-1779397200@feinheimisch.de
SUMMARY:Burger-Abend
DESCRIPTION:Buche einen Tisch bei unserem Burger-Abend in der Erholung und schmecke das Handwerk! \nAngefangen beim Bun aus Brioche-Teig\, belegt mit köstlichen Zutaten aus der Region\, selbstverständlich in Bio-Qualität! \nAuf Vorbestellung könnt ihr gerne einen glutenfreien Burger genießen. \nEs gibt immer einen Veggie-Burger\, den klassischen Beef-Burger und für ein bisschen Abwechslung\, als Special ein wechselndes Add-on! \nNutzt gerne den praktischen Reservierungs-Link und sucht euch eure Wunschzeit aus: 18 / 18.30 / 19 / 19.30 Uhr. \nBeef: 23 € Veggie: 20\,50 € Spezial: +2\,50 €
URL:https://feinheimisch.de/event/burger-abend-3/
LOCATION:Zur Erholung\, Mühlenstr. 56\, Uetersen\, 25436
CATEGORIES:Veranstaltungen von FH-Mitgliedern
ATTACH;FMTTYPE=image/jpeg:https://feinheimisch.de/wp-content/uploads/2026/02/ZurErholung-2408_nl_02_burgerabend_v2-1.jpg
ORGANIZER;CN="Zur Erholung":MAILTO:ratjen@zur-erholung-uetersen.de
END:VEVENT
END:VCALENDAR